BEGIN:VCALENDAR
VERSION:2.0
PRODID:-//wp-events-plugin.com//7.2.3.1//EN
BEGIN:VEVENT
UID:271@fwcoc.org
DTSTART:20260228T160000Z
DTEND:20260228T190000Z
DTSTAMP:20260211T171759Z
URL:https://www.fwcoc.org/events/high-school-girls-gather-girls-in-bloom/
SUMMARY:High School Girls Gather: Girls in Bloom
DESCRIPTION:The FWCOC Girls Ministry presents FWCOC Girls Ministry for Hig
 h School Girls in-home fellowship.  Please register in REALM today for th
 is event.\n\n(Click link below)\n\nRealm Registration\n\n&nbsp\;
ATTACH;FMTTYPE=image/jpeg:https://www.fwcoc.org/wp-content/uploads/2026/01
 /HS-GIRLS-FELLOWSHIP-FEB-28th-3.jpg
END:VEVENT
END:VCALENDAR