BEGIN:VCALENDAR
VERSION:2.0
PRODID:-//wp-events-plugin.com//7.2.3.1//EN
BEGIN:VEVENT
UID:129@fwcoc.org
DTSTART:20240901T160000Z
DTEND:20240901T173000Z
DTSTAMP:20240822T193618Z
URL:https://www.fwcoc.org/events/elders-and-deacons-meeting/
SUMMARY:Elders And Deacons Meeting
DESCRIPTION:Elders and Deacons will meet to coordinate efforts for the work
 s of the church.
ATTACH;FMTTYPE=image/jpeg:https://www.fwcoc.org/wp-content/uploads/2024/08
 /Elders-Deacons-Meeting-Sept-1-2024.jpg
LOCATION:FWCOC Resource Center Gym\, 4308 Stonewall Street\, Houston\, Texa
 s\, 77020\, United States
X-APPLE-STRUCTURED-LOCATION;VALUE=URI;X-ADDRESS=4308 Stonewall Street\, Hou
 ston\, Texas\, 77020\, United States;X-APPLE-RADIUS=100;X-TITLE=FWCOC Reso
 urce Center Gym:geo:0,0
END:VEVENT
END:VCALENDAR