BEGIN:VCALENDAR
VERSION:2.0
PRODID:-//wp-events-plugin.com//7.2.3.1//EN
BEGIN:VEVENT
UID:295@fwcoc.org
DTSTART:20260214T083000Z
DTEND:20260214T093000Z
DTSTAMP:20260210T190455Z
URL:https://www.fwcoc.org/events/couples-love-breakfast/
SUMMARY:Couples Love Breakfast
DESCRIPTION:Join the Fifth Ward Church of Christ Married Couples Ministry f
 or great food\, fellowship and spiritual enrichment.
ATTACH;FMTTYPE=image/jpeg:https://www.fwcoc.org/wp-content/uploads/2026/02
 /Couples-Love-Breakfast.jpg
LOCATION:#
END:VEVENT
END:VCALENDAR