BEGIN:VCALENDAR
VERSION:2.0
PRODID:-//wp-events-plugin.com//7.2.3.1//EN
BEGIN:VEVENT
UID:108@fwcoc.org
DTSTART:20240228T113000Z
DTEND:20240228T123000Z
DTSTAMP:20240227T161400Z
URL:https://www.fwcoc.org/events/community-lunch-and-devotion/
SUMMARY:Community Lunch and Devotion
DESCRIPTION:Come fellowship with Fifth Ward Church of Christ during our fre
 e Community Lunch & Devotion on the last Wednesday of the month. Meet with
  us at 4308 Stonewall St\, Houston\, Texas 77020
ATTACH;FMTTYPE=image/jpeg:https://www.fwcoc.org/wp-content/uploads/2024/02
 /FWCOC-Community-Lunch-and-Devotion-4th-Wed-1.jpg
LOCATION:FWCOC Resource Center Gym\, 4308 Stonewall Street\, Houston\, Texa
 s\, 77020\, United States
X-APPLE-STRUCTURED-LOCATION;VALUE=URI;X-ADDRESS=4308 Stonewall Street\, Hou
 ston\, Texas\, 77020\, United States;X-APPLE-RADIUS=100;X-TITLE=FWCOC Reso
 urce Center Gym:geo:0,0
END:VEVENT
END:VCALENDAR