BEGIN:VCALENDAR
VERSION:2.0
PRODID:-//wp-events-plugin.com//7.2.3.1//EN
BEGIN:VEVENT
UID:72@fwcoc.org
DTSTART:20240204T104500Z
DTEND:20240204T114500Z
DTSTAMP:20240104T002839Z
URL:https://www.fwcoc.org/events/bible-questions-02-04-2024/
SUMMARY:Bible Questions
DESCRIPTION:This enlightening series delves into the Bible's mysteries\, cu
 riosities\, and complexities\, inviting believers to seek understanding an
 d deepen their spiritual journey.
ATTACH;FMTTYPE=image/jpeg:https://www.fwcoc.org/wp-content/uploads/2024/01
 /Bible-Q-and-A-2024-2.jpg
LOCATION:#
END:VEVENT
END:VCALENDAR